BEGIN:VCALENDAR
VERSION:2.0
PRODID:-//hacksw/handcal//NONSGML v1.0//EN
BEGIN:VEVENT
SUMMARY:Championnat Jeunes J2 PH2
UID:be50ffc4-d597-4078-ab39-86136261d7c2
DTSTART:20260307T124500Z
DTEND:20260307T163000Z
LOCATION:Localisation   
CATEGORIES:Sportif
STATUS:
URL;VALUE=URI:https://goulainett.sportsregions.fr/evenements/2026/03/07/championnat-jeunes-j2-ph2-2422762
END:VEVENT
END:VCALENDAR
