BEGIN:VCALENDAR
VERSION:2.0
PRODID:-//hacksw/handcal//NONSGML v1.0//EN
BEGIN:VEVENT
SUMMARY:Criterium Federal - Tour 4
UID:f4ac7c8a-7aa9-42f9-8e82-27764c6e933b
DTSTART:20260313T230000Z
DTEND:20260315T230000Z
LOCATION:Localisation   
CATEGORIES:Sportif
STATUS:
URL;VALUE=URI:https://goulainett.sportsregions.fr/evenements/2026/03/14/criterium-federal-tour-4-2423928
END:VEVENT
END:VCALENDAR
