BEGIN:VCALENDAR
VERSION:2.0
PRODID:-//hacksw/handcal//NONSGML v1.0//EN
BEGIN:VEVENT
SUMMARY:Championnat Jeunes J4 PH2
UID:e2d9f924-d351-47ab-b3b0-4c756e238bb3
DTSTART:20260410T220000Z
DTEND:20260411T220000Z
LOCATION:Localisation   
CATEGORIES:Sportif
STATUS:
URL;VALUE=URI:https://goulainett.sportsregions.fr/evenements/2026/04/11/championnat-jeunes-j4-ph2-2438961
END:VEVENT
END:VCALENDAR
